BEGIN:VCALENDAR
VERSION:2.0
PRODID:-//Anwaltskanzlei Diercks - ECPv6.15.16//NONSGML v1.0//EN
CALSCALE:GREGORIAN
METHOD:PUBLISH
X-ORIGINAL-URL:https://anwaltskanzlei-diercks.de
X-WR-CALDESC:Veranstaltungen für Anwaltskanzlei Diercks
REFRESH-INTERVAL;VALUE=DURATION:PT1H
X-Robots-Tag:noindex
X-PUBLISHED-TTL:PT1H
BEGIN:VTIMEZONE
TZID:Europe/Berlin
BEGIN:DAYLIGHT
TZOFFSETFROM:+0100
TZOFFSETTO:+0200
TZNAME:CEST
DTSTART:20250330T010000
END:DAYLIGHT
BEGIN:STANDARD
TZOFFSETFROM:+0200
TZOFFSETTO:+0100
TZNAME:CET
DTSTART:20251026T010000
END:STANDARD
BEGIN:DAYLIGHT
TZOFFSETFROM:+0100
TZOFFSETTO:+0200
TZNAME:CEST
DTSTART:20260329T010000
END:DAYLIGHT
BEGIN:STANDARD
TZOFFSETFROM:+0200
TZOFFSETTO:+0100
TZNAME:CET
DTSTART:20261025T010000
END:STANDARD
BEGIN:DAYLIGHT
TZOFFSETFROM:+0100
TZOFFSETTO:+0200
TZNAME:CEST
DTSTART:20270328T010000
END:DAYLIGHT
BEGIN:STANDARD
TZOFFSETFROM:+0200
TZOFFSETTO:+0100
TZNAME:CET
DTSTART:20271031T010000
END:STANDARD
END:VTIMEZONE
BEGIN:VEVENT
DTSTART;TZID=Europe/Berlin:20260911T083000
DTEND;TZID=Europe/Berlin:20260911T213000
DTSTAMP:20260420T042911
CREATED:20260212T084339Z
LAST-MODIFIED:20260212T084339Z
UID:4122-1789115400-1789162200@anwaltskanzlei-diercks.de
SUMMARY:7. IT-Juristinnen-Tag 2026 – Das BarCamp zu Digitalisierung und Recht
DESCRIPTION:Digitalisierung ist längst gelebter Alltag – in der Softwarebranche ebenso wie in der Industrie. Doch mit jeder technischen Weiterentwicklung entstehen neue juristische Fragen. Besonders im Fokus: Künstliche Intelligenz (KI) und die rechtlichen Herausforderungen\, die diese mit sich bringt. \nUm diese komplexen Themen fachlich fundiert\, interdisziplinär und auf Augenhöhe über alle Erfahrungslevel hinweg zu diskutieren\, haben die Berliner Kanzlei HÄRTING Rechtsanwälte und die Anwaltskanzlei Diercks 2019 den IT-Juristinnen-Tag – Das Barcamp für Digitalisierung und Recht ins Leben gerufen. \nIn diesem Jahr findet das Format bereits zum 7. Mal statt: Am 11. September 2026 laden Marlene Schreiber (HÄRTING Rechtsanwälte) und Nina Diercks (Anwaltskanzlei Diercks) wieder nach Berlin ein – zum gemeinsamen Austausch\, für neue Impulse und zum Netzwerken mit engagierten Kolleg:innen. \nWillkommen sind alle\, die sich an der Schnittstelle von IT und Recht bewegen – ob juristisch\, technisch oder interdisziplinär – und Lust auf frische Perspektiven jenseits klassischer Konferenzformate haben. \n📍 Alle Infos zum Ablauf\, zum Veranstaltungsort und zum Barcamp-Format gibt es unter: www.it-juristinnentag.de\nhttps://it-juristinnen-tag-2026.eventbrite.de \n🎟️ Tickets sind demnächst erhältlich unter: Eventbrite – IT-Juristinnen-Tag 2026 \nWir freuen uns auf Eure Teilnahme!Marlene Schreiber & Nina Diercks
URL:https://anwaltskanzlei-diercks.de/veranstaltung/it-juristinnen-tag-2026/
LOCATION:HÄRTING Rechtsanwälte\, Berlin\, Chausseestraße 7\, Berlin\, 10115
CATEGORIES:BarCamp,Konferenz
ORGANIZER;CN="Anwaltskanzlei Diercks":MAILTO:kontakt@anwaltskanzlei-diercks.de
END:VEVENT
END:VCALENDAR